BEGIN:VCALENDAR
VERSION:2.0
PRODID:-//Auxein: Pioneering Orthopedic Solutions Worldwide - ECPv6.10.2//NONSGML v1.0//EN
CALSCALE:GREGORIAN
METHOD:PUBLISH
X-WR-CALNAME:Auxein: Pioneering Orthopedic Solutions Worldwide
X-ORIGINAL-URL:https://www.auxein.com
X-WR-CALDESC:Events for Auxein: Pioneering Orthopedic Solutions Worldwide
REFRESH-INTERVAL;VALUE=DURATION:PT1H
X-Robots-Tag:noindex
X-PUBLISHED-TTL:PT1H
BEGIN:VTIMEZONE
TZID:Asia/Kolkata
BEGIN:STANDARD
TZOFFSETFROM:+0530
TZOFFSETTO:+0530
TZNAME:IST
DTSTART:20250101T000000
END:STANDARD
END:VTIMEZONE
BEGIN:VEVENT
DTSTART;TZID=Asia/Kolkata:20250826T000000
DTEND;TZID=Asia/Kolkata:20250830T000000
DTSTAMP:20260422T113115
CREATED:20250801T101303Z
LAST-MODIFIED:20250801T101342Z
UID:35550-1756166400-1756512000@www.auxein.com
SUMMARY:IOSSMA 2025
DESCRIPTION:
URL:https://www.auxein.com/event/iossma-2025/
LOCATION:Bali\, Indonesia\, Bali\, Indonesia
CATEGORIES:Events
END:VEVENT
END:VCALENDAR