BEGIN:VCALENDAR
VERSION:2.0
PRODID:-//Auxein: Pioneering Orthopedic Solutions Worldwide - ECPv6.10.2//NONSGML v1.0//EN
CALSCALE:GREGORIAN
METHOD:PUBLISH
X-WR-CALNAME:Auxein: Pioneering Orthopedic Solutions Worldwide
X-ORIGINAL-URL:https://www.auxein.com
X-WR-CALDESC:Events for Auxein: Pioneering Orthopedic Solutions Worldwide
REFRESH-INTERVAL;VALUE=DURATION:PT1H
X-Robots-Tag:noindex
X-PUBLISHED-TTL:PT1H
BEGIN:VTIMEZONE
TZID:Asia/Kolkata
BEGIN:STANDARD
TZOFFSETFROM:+0530
TZOFFSETTO:+0530
TZNAME:IST
DTSTART:20250101T000000
END:STANDARD
END:VTIMEZONE
BEGIN:VEVENT
DTSTART;TZID=Asia/Kolkata:20250608T000000
DTEND;TZID=Asia/Kolkata:20250611T000000
DTSTAMP:20260422T145533
CREATED:20250603T051653Z
LAST-MODIFIED:20250603T051653Z
UID:34705-1749340800-1749600000@www.auxein.com
SUMMARY:ISAKOS 2025
DESCRIPTION:
URL:https://www.auxein.com/event/isakos-2025/
LOCATION:ICM\, International Congress Center Messe München\, Munich\, Germany
END:VEVENT
BEGIN:VEVENT
DTSTART;TZID=Asia/Kolkata:20250619T000000
DTEND;TZID=Asia/Kolkata:20250621T000000
DTSTAMP:20260422T145533
CREATED:20250609T130524Z
LAST-MODIFIED:20250609T130524Z
UID:34790-1750291200-1750464000@www.auxein.com
SUMMARY:5th Eurasian Orthopedic Forum
DESCRIPTION:
URL:https://www.auxein.com/event/5th-eurasian-orthopedic-forum/
LOCATION:Central Exhibition Hall\, Manezhnaya square\, 1\,\, Moscow\, Russia
END:VEVENT
END:VCALENDAR